BEGIN:VCALENDAR
VERSION:2.0
PRODID:-//Kunstenfestival Aardenburg - ECPv6.15.20//NONSGML v1.0//EN
CALSCALE:GREGORIAN
METHOD:PUBLISH
X-ORIGINAL-URL:https://www.kunstenfestivalaardenburg.nl
X-WR-CALDESC:Evenementen voor Kunstenfestival Aardenburg
REFRESH-INTERVAL;VALUE=DURATION:PT1H
X-Robots-Tag:noindex
X-PUBLISHED-TTL:PT1H
BEGIN:VTIMEZONE
TZID:Europe/Amsterdam
BEGIN:DAYLIGHT
TZOFFSETFROM:+0100
TZOFFSETTO:+0200
TZNAME:CEST
DTSTART:20250330T010000
END:DAYLIGHT
BEGIN:STANDARD
TZOFFSETFROM:+0200
TZOFFSETTO:+0100
TZNAME:CET
DTSTART:20251026T010000
END:STANDARD
BEGIN:DAYLIGHT
TZOFFSETFROM:+0100
TZOFFSETTO:+0200
TZNAME:CEST
DTSTART:20260329T010000
END:DAYLIGHT
BEGIN:STANDARD
TZOFFSETFROM:+0200
TZOFFSETTO:+0100
TZNAME:CET
DTSTART:20261025T010000
END:STANDARD
BEGIN:DAYLIGHT
TZOFFSETFROM:+0100
TZOFFSETTO:+0200
TZNAME:CEST
DTSTART:20270328T010000
END:DAYLIGHT
BEGIN:STANDARD
TZOFFSETFROM:+0200
TZOFFSETTO:+0100
TZNAME:CET
DTSTART:20271031T010000
END:STANDARD
END:VTIMEZONE
BEGIN:VEVENT
DTSTART;TZID=Europe/Amsterdam:20260322T140000
DTEND;TZID=Europe/Amsterdam:20260322T170000
DTSTAMP:20260423T182842
CREATED:20260318T093608Z
LAST-MODIFIED:20260320T093140Z
UID:1059-1774188000-1774198800@www.kunstenfestivalaardenburg.nl
SUMMARY:Informatiemiddag inwoners en vrijwilligers
DESCRIPTION:Ben je benieuwd naar onze plannen voor 2026? \nCurator Nico Out zal uitleggen wat tijdens het voorjaar te gebeuren staat en de bedoeling is van Blik Vooruit 2.0\, dat zich zal afspelen in Aardenburg en Eede. \nDit jaar bouwt Kunstenfestival Aardenburg (KFA) met Blik Vooruit 2.0 verder op het jongerenproject Blik Vooruit\, dat we in het najaar van 2025 met succes hebben neergezet. \nBlik Vooruit 2.0 wordt een 10-dagen durend festival. De opening is op Hemelvaartdag\, donderdag 14 mei 2026; de laatste dag is tweede Pinksterdag\, maandag 25 mei 2026. \nNet zoals de vorige jaren werken vrijwilligers\, curator en bestuur samen aan een aantrekkelijk en gevarieerd project met boeiende beeldende kunst en een mooi randprogramma. \nLaat even weten of je komt via cagbackere@gmail.com.
URL:https://www.kunstenfestivalaardenburg.nl/kalender/infobijeenkomst-inwoners-en-vrijwilligers/
LOCATION:In den Wijngaard\, Smedekensbrugge 34\, Aardenburg\, 4527 GE\, Netherlands
CATEGORIES:Vrijwilligers
END:VEVENT
END:VCALENDAR